BEGIN:VCALENDAR
VERSION:2.0
PRODID:-//Harn Museum of Art - ECPv6.15.18//NONSGML v1.0//EN
CALSCALE:GREGORIAN
METHOD:PUBLISH
X-WR-CALNAME:Harn Museum of Art
X-ORIGINAL-URL:https://harn.ufl.edu
X-WR-CALDESC:Events for Harn Museum of Art
REFRESH-INTERVAL;VALUE=DURATION:PT1H
X-Robots-Tag:noindex
X-PUBLISHED-TTL:PT1H
BEGIN:VTIMEZONE
TZID:America/Chicago
BEGIN:DAYLIGHT
TZOFFSETFROM:-0600
TZOFFSETTO:-0500
TZNAME:CDT
DTSTART:20250309T080000
END:DAYLIGHT
BEGIN:STANDARD
TZOFFSETFROM:-0500
TZOFFSETTO:-0600
TZNAME:CST
DTSTART:20251102T070000
END:STANDARD
BEGIN:DAYLIGHT
TZOFFSETFROM:-0600
TZOFFSETTO:-0500
TZNAME:CDT
DTSTART:20260308T080000
END:DAYLIGHT
BEGIN:STANDARD
TZOFFSETFROM:-0500
TZOFFSETTO:-0600
TZNAME:CST
DTSTART:20261101T070000
END:STANDARD
BEGIN:DAYLIGHT
TZOFFSETFROM:-0600
TZOFFSETTO:-0500
TZNAME:CDT
DTSTART:20270314T080000
END:DAYLIGHT
BEGIN:STANDARD
TZOFFSETFROM:-0500
TZOFFSETTO:-0600
TZNAME:CST
DTSTART:20271107T070000
END:STANDARD
END:VTIMEZONE
BEGIN:VEVENT
DTSTART;TZID=America/Chicago:20260430T180000
DTEND;TZID=America/Chicago:20260430T190000
DTSTAMP:20260424T023801
CREATED:20260413T145401Z
LAST-MODIFIED:20260413T145629Z
UID:10000447-1777572000-1777575600@harn.ufl.edu
SUMMARY:Art After Dark
DESCRIPTION:Wine Down at 6 pm and relax to musical performances from Richard Kendall\, Michael Claytor\, Samantha Moss\, in collaboration with the UF Health Shands Arts in Medicine. Enjoying complimentary wine\, beer and dessert\, and explore our newest exhibition\, Florida in the Frame: A Century of Artists’ Reflections on the Sunshine State. Before you go\, don’t miss the chance to indulge yourself with unique finds at our museum store. \nGenerous support for the exhibition provided by Art Bridges. \n\n\n \n\n\n\n\nGenerous support for Art After Dark is provided by Art Bridges Foundation’s Access for All program and a private grant.
URL:https://harn.ufl.edu/event/art-after-dark-30/
LOCATION:Harn Museum of Art\, 3259 Hull Road\, Gainesville\, FL\, 32608\, United States
CATEGORIES:Art After Dark,College Students
ATTACH;FMTTYPE=image/jpeg:https://harn.ufl.edu/wp-content/uploads/2026/04/04.30_AAD_WD_Social.jpg
ORGANIZER;CN="Harn Museum of Art":MAILTO:info@harn.ufl.edu
END:VEVENT
END:VCALENDAR